BEGIN:VCALENDAR
VERSION:2.0
PRODID:-// eRoom plugin //NONSGML v1.0//EN
CALSCALE:GREGORIAN
BEGIN:VEVENT
UID:eRoom-1776950914
SUMMARY:Zoom Meeting
LOCATION:Zoom
DESCRIPTION:Zoom Meeting is inviting you to a scheduled Zoom meeting.\n\nJo
 in Zoom Meeting\nhttps://us02web.zoom.us/j/5205311415?pwd=L1hvdlNDTm4rNUZL
 bW92dGI5Nld4QT09\n\nMeeting ID: 87053587253\nPasscode: F2U7tV & Meeting ID
 : 520 531 1415\n
URL;VALUE=URI:https://us02web.zoom.us/j/5205311415?pwd=L1hvdlNDTm4rNUZLbW92dGI5Nld4QT09
DTSTART:20240406T000000Z
DTEND:20240406T010000Z
DTSTAMP:20260423T132834Z
BEGIN:VALARM
ACTION:DISPLAY
DESCRIPTION:Reminder
TRIGGER;RELATED=START:-PT15M
END:VALARM
END:VEVENT
END:VCALENDAR